BEGIN:VCALENDAR
VERSION:2.0
PRODID:-//wp-events-plugin.com//7.2.3.1//EN
TZID:Europe/Paris
X-WR-TIMEZONE:Europe/Paris
BEGIN:VEVENT
UID:138@maisons-bois.com
DTSTART;TZID=Europe/Paris:20270311T083000
DTEND;TZID=Europe/Paris:20270313T170000
DTSTAMP:20250915T092113Z
URL:https://maisons-bois.com/agenda-construction-bois/salon-bois-a-bulle-e
 n-suisse-du-11-au-13-mars-2027
SUMMARY:Salon bois à Bulle en Suisse du 11 au 13 mars 2027
DESCRIPTION:\n\n\nSALONBOIS est une plateforme d'échanges et de rencontres
  aussi bien pour les professionnels que les privés. La 17ème édition a
  réuni 90 exposants en provenance de Suisse et plus de 8'800 visiteurs.\n
 \n\n\n\n\n\nSALONBOIS\nc/o Espace Gruyère SA\nRue de Vevey 136/144\nCH-16
 30 Bulle\n\n+41 26 919 86 50\n\nHoraires du salon bois de Bulle \n\nLundi 
 au Jeudi\n08h30-11h30\n14h00-17h00\n\nVendredi\n08h30-11h30\n14h00-16h30\n
 \n\n
ATTACH;FMTTYPE=image/jpeg:https://maisons-bois.com/wp-content/uploads/2025
 /09/salonbois2025.jpg.webp
CATEGORIES:Salon grand public,Salon professionnel
END:VEVENT
BEGIN:VTIMEZONE
TZID:Europe/Paris
X-LIC-LOCATION:Europe/Paris
BEGIN:STANDARD
DTSTART:20261025T020000
TZOFFSETFROM:+0200
TZOFFSETTO:+0100
TZNAME:CET
END:STANDARD
END:VTIMEZONE
END:VCALENDAR