BEGIN:VCALENDAR
VERSION:2.0
PRODID:-//wp-events-plugin.com//7.2.3.1//EN
TZID:Europe/Paris
X-WR-TIMEZONE:Europe/Paris
BEGIN:VEVENT
UID:66@maisons-bois.com
DTSTART;TZID=Europe/Paris;VALUE=DATE:20221007
DTEND;TZID=Europe/Paris;VALUE=DATE:20221017
DTSTAMP:20220923T054015Z
URL:https://maisons-bois.com/agenda-construction-bois/habiter-bois-du-7-au
 -16-octobre-2022-pays-de-la-loire
SUMMARY:Habiter bois du 7 au 16 octobre 2022 Pays de La Loire
DESCRIPTION:Du 7 au 16 octobre 2022\, l’interprofession Fibois Pays de la
  Loire convie le grand public ligérien à la sixième édition d’Habite
 r Bois. Plus précisément\, les architectes et constructeurs membres de F
 ibois Pays de la Loire organisent des visites de maisons\, aménagements e
 t extensions en Pays de la Loire durant ces 10 jours. Créé en 2017\, c
 ’est le rendez-vous incontournable des particuliers pour visiter des mai
 sons et des extensions en bois. Habiter Bois est né à la demande des adh
 érents de Fibois Pays de la Loire eux-mêmes\, animés d’une volonté d
 e parler de maison en bois au grand public.\n\nFort de son expérience d'o
 rganisateur du Salon Maison Bois dans les années 2000\, l’interprofessi
 on a donc créé Habiter Bois il y a 5 ans\, rejoint dès 2018 par Fibois 
 Auvergne Rhône Alpes\, et en 2021 par Fibois Île de France. Cette année
 \, Habiter Bois s’étend aux interprofessions Fibois Bourgogne Franche C
 omté et Fibois Bretagne\, avec un site web commun à toutes les interprof
 essions offrant ainsi une véritable vitrine et un portail d’information
 s pédagogique sur le bois dans la maison\, notamment les maisons ou exten
 sions/surélévations les plus innovantes.\n\nProgrammes des visites https
 ://www.habiterbois.fr/guide-evenements/pays-de-la-loire/
ATTACH;FMTTYPE=image/jpeg:https://maisons-bois.com/wp-content/uploads/fibo
 is.png
CATEGORIES:Visite de chantier
END:VEVENT
BEGIN:VTIMEZONE
TZID:Europe/Paris
X-LIC-LOCATION:Europe/Paris
BEGIN:DAYLIGHT
DTSTART:20220327T030000
TZOFFSETFROM:+0100
TZOFFSETTO:+0200
TZNAME:CEST
END:DAYLIGHT
END:VTIMEZONE
END:VCALENDAR