BEGIN:VCALENDAR
VERSION:2.0
PRODID:-//wp-events-plugin.com//7.2.3.1//EN
TZID:Europe/Paris
X-WR-TIMEZONE:Europe/Paris
BEGIN:VEVENT
UID:37@maisons-bois.com
DTSTART;TZID=Europe/Paris;VALUE=DATE:20220614
DTEND;TZID=Europe/Paris;VALUE=DATE:20220618
DTSTAMP:20220104T165702Z
URL:https://maisons-bois.com/agenda-construction-bois/eurobois-2022-salon-
 de-la-machine-bois-et-des-materiaux-bois-a-lyon-69
SUMMARY:Eurobois 2022 salon de la machine bois et des matériaux bois à Ly
 on 69\, reporté en juin 2022
DESCRIPTION:Salon Eurobois à Lyon 2022
ATTACH;FMTTYPE=image/jpeg:https://maisons-bois.com/wp-content/uploads/Salo
 n-eurobois-2022.jpg
CATEGORIES:Salon professionnel
LOCATION:Eurexpo Lyon\, Avenue Louis Blériot\, Chassieu\, 69680 \, France
GEO:45.7287918;4.958578999999986
X-APPLE-STRUCTURED-LOCATION;VALUE=URI;X-ADDRESS=Avenue Louis Blériot\, Cha
 ssieu\, 69680 \, France;X-APPLE-RADIUS=100;X-TITLE=Eurexpo Lyon:geo:45.728
 7918,4.958578999999986
END:VEVENT
BEGIN:VTIMEZONE
TZID:Europe/Paris
X-LIC-LOCATION:Europe/Paris
BEGIN:DAYLIGHT
DTSTART:20220327T030000
TZOFFSETFROM:+0100
TZOFFSETTO:+0200
TZNAME:CEST
END:DAYLIGHT
END:VTIMEZONE
END:VCALENDAR