BEGIN:VCALENDAR
VERSION:2.0
PRODID:-//wp-events-plugin.com//7.2.3.1//EN
TZID:Europe/Paris
X-WR-TIMEZONE:Europe/Paris
BEGIN:VEVENT
UID:116@maisons-bois.com
DTSTART;TZID=Europe/Paris:20240326T090000
DTEND;TZID=Europe/Paris:20240328T180000
DTSTAMP:20240228T075605Z
URL:https://maisons-bois.com/agenda-construction-bois/enviropro-salon-prof
 essionnel-des-solutions-environnementales
SUMMARY:Enviropro salon professionnel des solutions environnementales.
DESCRIPTION:Enviropro salon professionnel des solutions environnementales m
 ars 2024 à Angers.\nENVIROPRO Grand Ouest rassemble l’ensemble des solu
 tions pour répondre aux problématiques environnementales de tous les act
 eurs professionnels publics et privés.\n\nLes horaires et informations pr
 atiques :\n\nMardi 26 et Mercredi 27 Mars 2024 :  9h00 / 18h00\nJeudi 28 M
 ars 2024 : 9h00 / 17h00\n\nANGERS PARC EXPO\nRoute de Paris\n49044 ANGERS 
 Cedex 01\nTél : +33 (0)2 41 93 40 40\n\nPlus d'information en cliquant ic
 i\n\n\n\n&nbsp\;
ATTACH;FMTTYPE=image/jpeg:https://maisons-bois.com/wp-content/uploads/2024
 /02/logo-salon.jpg
CATEGORIES:Salon professionnel
END:VEVENT
BEGIN:VTIMEZONE
TZID:Europe/Paris
X-LIC-LOCATION:Europe/Paris
BEGIN:STANDARD
DTSTART:20231029T020000
TZOFFSETFROM:+0200
TZOFFSETTO:+0100
TZNAME:CET
END:STANDARD
END:VTIMEZONE
END:VCALENDAR