BEGIN:VCALENDAR
VERSION:2.0
PRODID:-//wp-events-plugin.com//7.2.3.1//EN
TZID:Europe/Paris
X-WR-TIMEZONE:Europe/Paris
BEGIN:VEVENT
UID:119@maisons-bois.com
DTSTART;TZID=Europe/Paris:20240605T090000
DTEND;TZID=Europe/Paris:20240606T180000
DTSTAMP:20240523T064448Z
URL:https://maisons-bois.com/agenda-construction-bois/architectwork-du-5-a
 u-6-juin-2024-a-lyon
SUMMARY:ARCHITECT@WORK du 5 au 6 juin 2024 à Lyon
DESCRIPTION:ARCHITECT@WORK Lyon\, l’événement atypique réservé aux ar
 chitectes\, architectes d’intérieur et autres prescripteurs\, aura à c
 œur de vous surprendre pour cette 7e édition autour du thème BON SENS E
 T ARCHITECTURE.\nL’événement vous permettra de découvrir une sélecti
 on de plus de 400 nouveautés\, soigneusement sélectionnées.\nComme à s
 on habitude ARCHITECT@WORK propose un vaste programme d’interventions et
  d’expositions sur l’architecture :\nCONFÉRENCES 2024\nMERCREDI 5 JU
 IN\n\n11h00 Comment valoriser les bois scolytés en construction ?\n\n14h
 30 « …la main et l’architecte… »\n\n16h00 Transformation d’un 
 bar restaurant de quartier en une trattoria moderne\n\nJEUDI 6 JUIN\n\n11h
 00 Filière sèche et biosourcée : l’intérêt du choix\nde la ressour
 ce.\n\n14h00 Sobriexpo – Moins\, c’est mieux\n\n16h00 Equilibre\n\n 
 	L’exposition matériaux\, SOBRIEXPO – Moins c’est mieux\n 	L’exp
 osition photographique\, Regard sur 10 ans d’Architecture par Gilles Al
 onso\n 	La remise du Prix Régional de la Construction Bois 2024\n 	Un ric
 he programme d’interventions\n\nRestez connectés pour plus d’informat
 ions.\n\nVous souhaitez présenter vos innovations en tant qu’exposant 
 ? Contactez notre équipe !\nEmail : france@architectatwork.com\nTéléph
 one : 03 20 57 75 78\n\n&nbsp\;\n\nsource : https://lyon.architectatwork.f
 r/
ATTACH;FMTTYPE=image/jpeg:https://maisons-bois.com/wp-content/uploads/2024
 /05/Architect@work-lyon.png
CATEGORIES:Salon professionnel
END:VEVENT
BEGIN:VTIMEZONE
TZID:Europe/Paris
X-LIC-LOCATION:Europe/Paris
BEGIN:DAYLIGHT
DTSTART:20240331T030000
TZOFFSETFROM:+0100
TZOFFSETTO:+0200
TZNAME:CEST
END:DAYLIGHT
END:VTIMEZONE
END:VCALENDAR